BEGIN:VCALENDAR
VERSION:2.0
PRODID:SchoolNow
CALSCALE:GREGORIAN
BEGIN:VEVENT
UID:f41c3656-71c8-11ef-b909-0a58a9feac02
DTSTAMP:20250524T144429Z
SUMMARY:CDD Board Meeting - June 2\, 2025
LOCATION:Rocky Bluff Library\, 6750 U.S. HWY 301 North\, Ellenton\, Florida
  34222
URL;VALUE=URI:https://www.lexingtoncdd.org/calendar/6594582/cdd-board-meeti
 ng-june-2-2025
DTSTART:20250602T223000Z
DTEND:20250602T233000Z
ATTACH;FILENAME=2025-06-02 Lexington Agenda.pdf;FMTTYPE=application/pdf:htt
 ps://campussuite-storage.s3.amazonaws.com/prod/1558960/cc503244-f059-11e9-
 ba2c-12606da399aa/2959575/96a4b6ea-38ad-11f0-b3ec-02c9eef58dd9/file/2025-0
 6-02 Lexington Agenda.pdf
END:VEVENT
END:VCALENDAR
