BEGIN:VCALENDAR
VERSION:2.0
PRODID:SchoolNow
CALSCALE:GREGORIAN
BEGIN:VEVENT
UID:15251086-7937-11f0-ab6a-0a58a9feac02
DTSTAMP:20250814T175017Z
SUMMARY:CDD Board Meeting - May 2026
LOCATION:Rocky Bluff Library\, 6750 U.S. HWY 301 North\, Ellenton\, Florida
  34222
URL;VALUE=URI:https://www.lexingtoncdd.org/calendar/8508035/cdd-board-meeti
 ng-may-2026
DTSTART:20260504T223000Z
DTEND:20260504T233000Z
END:VEVENT
END:VCALENDAR
