BEGIN:VCALENDAR
VERSION:2.0
PRODID:SchoolNow
CALSCALE:GREGORIAN
BEGIN:VEVENT
UID:2ddaeab0-7937-11f0-b149-0a58a9feac02
DTSTAMP:20250814T175034Z
SUMMARY:CDD Board Meeting - Jun. 2026
LOCATION:Rocky Bluff Library\, 6750 U.S. HWY 301 North\, Ellenton\, Florida
  34222
URL;VALUE=URI:https://www.lexingtoncdd.org/calendar/8508043/cdd-board-meeti
 ng-jun-2026
DTSTART:20260601T223000Z
DTEND:20260601T233000Z
END:VEVENT
END:VCALENDAR
